BEGIN:VCALENDAR
VERSION:2.0
PRODID:-//National Garden Clubs - Calendar - ECPv5.16.0//NONSGML v1.0//EN
CALSCALE:GREGORIAN
METHOD:PUBLISH
X-WR-CALNAME:National Garden Clubs - Calendar
X-ORIGINAL-URL:https://calendar.gardenclub.org
X-WR-CALDESC:Events for National Garden Clubs - Calendar
REFRESH-INTERVAL;VALUE=DURATION:PT1H
X-Robots-Tag:noindex
X-PUBLISHED-TTL:PT1H
BEGIN:VTIMEZONE
TZID:America/New_York
BEGIN:DAYLIGHT
TZOFFSETFROM:-0500
TZOFFSETTO:-0400
TZNAME:EDT
DTSTART:20250309T070000
END:DAYLIGHT
BEGIN:STANDARD
TZOFFSETFROM:-0400
TZOFFSETTO:-0500
TZNAME:EST
DTSTART:20251102T060000
END:STANDARD
END:VTIMEZONE
BEGIN:VEVENT
DTSTART;VALUE=DATE:20250304
DTEND;VALUE=DATE:20250306
DTSTAMP:20260420T045210
CREATED:20241028T140732Z
LAST-MODIFIED:20241028T140732Z
UID:19141-1741046400-1741219199@calendar.gardenclub.org
SUMMARY:Environmental School Course 4 - St. Louis\, MO (Virtual via Zoom)
DESCRIPTION:NGC Sponsored Course
URL:https://calendar.gardenclub.org/event/environmental-school-course-4-st-louis-mo-virtual-via-zoom/
LOCATION:St. Louis\, St. Louis
CATEGORIES:Environmental School,School Course 4,Virtual School
ATTACH;FMTTYPE=image/jpeg:https://calendar.gardenclub.org/wp-content/uploads/2022/09/ess.jpg
ORGANIZER;CN="Pat%20Rupiper":MAILTO:patrupiper@gmail.com
END:VEVENT
END:VCALENDAR