BEGIN:VCALENDAR
VERSION:2.0
PRODID:-//National Garden Clubs - Calendar - ECPv5.16.0//NONSGML v1.0//EN
CALSCALE:GREGORIAN
METHOD:PUBLISH
X-ORIGINAL-URL:https://calendar.gardenclub.org
X-WR-CALDESC:Events for National Garden Clubs - Calendar
REFRESH-INTERVAL;VALUE=DURATION:PT1H
X-Robots-Tag:noindex
X-PUBLISHED-TTL:PT1H
BEGIN:VTIMEZONE
TZID:America/New_York
BEGIN:DAYLIGHT
TZOFFSETFROM:-0500
TZOFFSETTO:-0400
TZNAME:EDT
DTSTART:20220313T070000
END:DAYLIGHT
BEGIN:STANDARD
TZOFFSETFROM:-0400
TZOFFSETTO:-0500
TZNAME:EST
DTSTART:20221106T060000
END:STANDARD
BEGIN:DAYLIGHT
TZOFFSETFROM:-0500
TZOFFSETTO:-0400
TZNAME:EDT
DTSTART:20230312T070000
END:DAYLIGHT
BEGIN:STANDARD
TZOFFSETFROM:-0400
TZOFFSETTO:-0500
TZNAME:EST
DTSTART:20231105T060000
END:STANDARD
END:VTIMEZONE
BEGIN:VEVENT
DTSTART;VALUE=DATE:20230314
DTEND;VALUE=DATE:20230316
DTSTAMP:20260419T124142
CREATED:20220927T163007Z
LAST-MODIFIED:20230202T171953Z
UID:18223-1678752000-1678924799@calendar.gardenclub.org
SUMMARY:Flower Show School Course 1- Pearl\, MS
DESCRIPTION:FSP & Horticulture with David Robson: Foliage container-grown Begonias & Echeverias (Succulents)\n\n\nDesign with Gina Jogan: Traditional Designs
URL:https://calendar.gardenclub.org/event/flower-show-school-course-1-pearl-ms/
LOCATION:Pearl\, MS\, Pearl\, MS
CATEGORIES:Flower Show School,School Course 1
ATTACH;FMTTYPE=image/jpeg:https://calendar.gardenclub.org/wp-content/uploads/2022/09/fss-img-scaled-1.jpg
ORGANIZER;CN="Carol%20Bullard":MAILTO:carol.m.bullard@gmail.com
END:VEVENT
BEGIN:VEVENT
DTSTART;VALUE=DATE:20230227
DTEND;VALUE=DATE:20230301
DTSTAMP:20260419T124142
CREATED:20230118T162028Z
LAST-MODIFIED:20230118T162028Z
UID:18455-1677456000-1677628799@calendar.gardenclub.org
SUMMARY:Landscape Design School Course 1- College Station\, TX
DESCRIPTION:In-Person Classroom
URL:https://calendar.gardenclub.org/event/landscape-design-school-course-1-college-station-tx/
LOCATION:College Station\, TX\, College Station\, TX
CATEGORIES:Landscape Design School,School Course 1
ATTACH;FMTTYPE=image/jpeg:https://calendar.gardenclub.org/wp-content/uploads/2022/09/landscape-design-adobe.jpg
ORGANIZER;CN="Michele%20Wehrheim":MAILTO:texaslandscapedesignschool@gmail.com
END:VEVENT
BEGIN:VEVENT
DTSTART;VALUE=DATE:20230217
DTEND;VALUE=DATE:20230219
DTSTAMP:20260419T124142
CREATED:20221118T152414Z
LAST-MODIFIED:20221118T152414Z
UID:18393-1676592000-1676764799@calendar.gardenclub.org
SUMMARY:Environmental School Course 1- Westerville\, OH
DESCRIPTION:ZOOM – VIRTUAL CLASSROOM
URL:https://calendar.gardenclub.org/event/environmental-school-course-1-westerville-oh/
LOCATION:TX
CATEGORIES:Environmental School,School Course 1,Virtual School
ATTACH;FMTTYPE=image/jpeg:https://calendar.gardenclub.org/wp-content/uploads/2022/09/ess.jpg
ORGANIZER;CN="Pat%20Rupiper":MAILTO:patrupiper@gmail.com
END:VEVENT
BEGIN:VEVENT
DTSTART;VALUE=DATE:20230120
DTEND;VALUE=DATE:20230123
DTSTAMP:20260419T124142
CREATED:20221109T142818Z
LAST-MODIFIED:20221109T142818Z
UID:18382-1674172800-1674431999@calendar.gardenclub.org
SUMMARY:Environmental School Course 1- Groesbeck\, TX
DESCRIPTION:In-Person Classroom
URL:https://calendar.gardenclub.org/event/environmental-school-course-1-groesbeck-tx/
LOCATION:Groesbeck\, TX\, Groesbeck\, TX
CATEGORIES:Environmental School,School Course 1
ATTACH;FMTTYPE=image/jpeg:https://calendar.gardenclub.org/wp-content/uploads/2022/09/ess.jpg
ORGANIZER;CN="Sarah%20McReynolds":MAILTO:esarabeth@aol.com
END:VEVENT
BEGIN:VEVENT
DTSTART;VALUE=DATE:20230114
DTEND;VALUE=DATE:20230126
DTSTAMP:20260419T124142
CREATED:20221024T141727Z
LAST-MODIFIED:20221024T141727Z
UID:18362-1673654400-1674691199@calendar.gardenclub.org
SUMMARY:Flower Show School Course 1- Albuquerque\, NM
DESCRIPTION:FSP with Barbara May: Via Zoom on 1/14/2023 \n  \nHorticulture with Sue Kirkman: Conifers and Orchids \n  \nDesign with Shirley Tetreault: Traditional Designs \n  \n*Instruction 1/21-22/2023 & Testing 1/25/2023
URL:https://calendar.gardenclub.org/event/flower-show-school-course-1-albuquerque-nm/
LOCATION:Albuquerque\, NM\, Albuquerque\, NM
CATEGORIES:Flower Show School,School Course 1
ATTACH;FMTTYPE=image/jpeg:https://calendar.gardenclub.org/wp-content/uploads/2022/09/fss-img-scaled-1.jpg
ORGANIZER;CN="Debra%20Sorrell":MAILTO:jdsorr@msn.com
END:VEVENT
BEGIN:VEVENT
DTSTART;VALUE=DATE:20221114
DTEND;VALUE=DATE:20221116
DTSTAMP:20260419T124142
CREATED:20220927T161312Z
LAST-MODIFIED:20220927T161312Z
UID:18196-1668384000-1668556799@calendar.gardenclub.org
SUMMARY:Gardening School Course 1- West Palm Beach\, FL
DESCRIPTION:In-Person Classroom
URL:https://calendar.gardenclub.org/event/gardening-school-course-1-west-palm-beach-fl/
LOCATION:West Palm Beach\, FL\, West Palm Beach\, FL
CATEGORIES:Gardening School,School Course 1
ATTACH;FMTTYPE=image/jpeg:https://calendar.gardenclub.org/wp-content/uploads/2022/09/planting-hands-adobe_0.jpg
ORGANIZER;CN="Carol%20Stender":MAILTO:carol.stender@gmail.com
END:VEVENT
BEGIN:VEVENT
DTSTART;VALUE=DATE:20221021
DTEND;VALUE=DATE:20221023
DTSTAMP:20260419T124142
CREATED:20220927T154738Z
LAST-MODIFIED:20220927T154738Z
UID:18174-1666310400-1666483199@calendar.gardenclub.org
SUMMARY:Environmental School Course 1- Manistee\, MI
DESCRIPTION:In-Person Classroom
URL:https://calendar.gardenclub.org/event/environmental-school-course-1-manistee-mi/
LOCATION:Manistee\, MI\, Manistee\, MI
CATEGORIES:Environmental School,School Course 1
ORGANIZER;CN="Beth%20Markowski":MAILTO:markowski.beth@gmail.com
END:VEVENT
BEGIN:VEVENT
DTSTART;VALUE=DATE:20221012
DTEND;VALUE=DATE:20221014
DTSTAMP:20260419T124142
CREATED:20220927T161816Z
LAST-MODIFIED:20220927T161816Z
UID:18204-1665532800-1665705599@calendar.gardenclub.org
SUMMARY:Landscape Design School Course 1- Washington\, DC (NCA)
DESCRIPTION:In-Person Classroom
URL:https://calendar.gardenclub.org/event/landscape-design-school-course-1-washington-dc-nca/
LOCATION:Washington\, DC\, Washinton\, DC
CATEGORIES:Landscape Design School,School Course 1
ATTACH;FMTTYPE=image/jpeg:https://calendar.gardenclub.org/wp-content/uploads/2022/09/landscape-design-adobe.jpg
ORGANIZER;CN="Joanne%20Erickson":MAILTO:LDS@ncagardenclubs.org
END:VEVENT
BEGIN:VEVENT
DTSTART;VALUE=DATE:20221010
DTEND;VALUE=DATE:20221012
DTSTAMP:20260419T124142
CREATED:20220927T154508Z
LAST-MODIFIED:20221010T192509Z
UID:18170-1665360000-1665532799@calendar.gardenclub.org
SUMMARY:Environmental School Course 1- Greenville\, SC
DESCRIPTION:In-Person Classroom
URL:https://calendar.gardenclub.org/event/environmental-school-course-1-greenville-sc/
LOCATION:Greenville\, SC\, Greenville\, SC
CATEGORIES:Environmental School,School Course 1
ATTACH;FMTTYPE=image/jpeg:https://calendar.gardenclub.org/wp-content/uploads/2022/09/ess.jpg
ORGANIZER;CN="Karen%20Allen":MAILTO:saludalake21@aol.com
END:VEVENT
BEGIN:VEVENT
DTSTART;VALUE=DATE:20221008
DTEND;VALUE=DATE:20221016
DTSTAMP:20260419T124142
CREATED:20220927T154219Z
LAST-MODIFIED:20220927T154219Z
UID:18167-1665187200-1665878399@calendar.gardenclub.org
SUMMARY:Environmental School Course 1- Cushing\, OK
DESCRIPTION:ZOOM VIRTUAL CLASSROOM (Saturdays Only)
URL:https://calendar.gardenclub.org/event/environmental-school-course-1-cushing-ok/
LOCATION:TX
CATEGORIES:Environmental School,School Course 1,Virtual School
ORGANIZER;CN="Judy%20Grotts":MAILTO:judygrotts@cotc.net
END:VEVENT
END:VCALENDAR