BEGIN:VCALENDAR
VERSION:2.0
PRODID:-//National Garden Clubs - Calendar - ECPv5.16.0//NONSGML v1.0//EN
CALSCALE:GREGORIAN
METHOD:PUBLISH
X-ORIGINAL-URL:https://calendar.gardenclub.org
X-WR-CALDESC:Events for National Garden Clubs - Calendar
REFRESH-INTERVAL;VALUE=DURATION:PT1H
X-Robots-Tag:noindex
X-PUBLISHED-TTL:PT1H
BEGIN:VTIMEZONE
TZID:America/New_York
BEGIN:DAYLIGHT
TZOFFSETFROM:-0500
TZOFFSETTO:-0400
TZNAME:EDT
DTSTART:20250309T070000
END:DAYLIGHT
BEGIN:STANDARD
TZOFFSETFROM:-0400
TZOFFSETTO:-0500
TZNAME:EST
DTSTART:20251102T060000
END:STANDARD
END:VTIMEZONE
BEGIN:VEVENT
DTSTART;VALUE=DATE:20250601
DTEND;VALUE=DATE:20250604
DTSTAMP:20260419T193049
CREATED:20250312T142427Z
LAST-MODIFIED:20250312T142427Z
UID:19246-1748736000-1748995199@calendar.gardenclub.org
SUMMARY:Multiple Refresher: Tri-Refresher - Gainesville\, FL
DESCRIPTION:Tri-Refresher in Environmental\, Landscape Design\, and Gardening Schools\nHosted at the University of Florida in Gainesville\, FL\nSponsored by District V of Florida Federation of Garden Clubs\, Inc.
URL:https://calendar.gardenclub.org/event/multiple-refresher-tri-refresher-gainesville-fl/
LOCATION:Gainesville\, FL\, Gainesville\, FL
CATEGORIES:Environmental School,Gardening School,Landscape Design School,Multiple Refresher School
ATTACH;FMTTYPE=image/jpeg:https://calendar.gardenclub.org/wp-content/uploads/2022/09/Recycled-Garden-1.jpg
ORGANIZER;CN="Carol%20Binello":MAILTO:carolannbinello@gmail.com
END:VEVENT
BEGIN:VEVENT
DTSTART;VALUE=DATE:20250611
DTEND;VALUE=DATE:20250613
DTSTAMP:20260419T193049
CREATED:20250213T142740Z
LAST-MODIFIED:20250213T142740Z
UID:19229-1749600000-1749772799@calendar.gardenclub.org
SUMMARY:Gardening School Course 3 - Spartanburg\, SC
DESCRIPTION:IN-PERSON CLASSROOM
URL:https://calendar.gardenclub.org/event/gardening-school-course-3-spartanburg-sc/
LOCATION:Spartanburg\, SC\, Spartanburg\, South Carolina
CATEGORIES:Gardening School,School Course 3
ATTACH;FMTTYPE=image/jpeg:https://calendar.gardenclub.org/wp-content/uploads/2022/09/planting-hands-adobe_0.jpg
ORGANIZER;CN="Karen%20Allen":MAILTO:saludalake21@aol.com
END:VEVENT
END:VCALENDAR