BEGIN:VCALENDAR
VERSION:2.0
PRODID:-//National Garden Clubs - Calendar - ECPv5.16.0//NONSGML v1.0//EN
CALSCALE:GREGORIAN
METHOD:PUBLISH
X-WR-CALNAME:National Garden Clubs - Calendar
X-ORIGINAL-URL:https://calendar.gardenclub.org
X-WR-CALDESC:Events for National Garden Clubs - Calendar
REFRESH-INTERVAL;VALUE=DURATION:PT1H
X-Robots-Tag:noindex
X-PUBLISHED-TTL:PT1H
BEGIN:VTIMEZONE
TZID:America/New_York
BEGIN:DAYLIGHT
TZOFFSETFROM:-0500
TZOFFSETTO:-0400
TZNAME:EDT
DTSTART:20250309T070000
END:DAYLIGHT
BEGIN:STANDARD
TZOFFSETFROM:-0400
TZOFFSETTO:-0500
TZNAME:EST
DTSTART:20251102T060000
END:STANDARD
END:VTIMEZONE
BEGIN:VEVENT
DTSTART;VALUE=DATE:20250804
DTEND;VALUE=DATE:20250806
DTSTAMP:20260419T161428
CREATED:20250505T135839Z
LAST-MODIFIED:20250505T135839Z
UID:19277-1754265600-1754438399@calendar.gardenclub.org
SUMMARY:Gardening School Course 1 - San Antonio\, TX (IN-PERSON CLASSROOM)
DESCRIPTION:IN-PERSON CLASSROOM
URL:https://calendar.gardenclub.org/event/gardening-school-course-1-san-antonio-tx-in-person-classroom/
LOCATION:San Antonio\, TX\, San Antonio\, TX
CATEGORIES:Gardening School,School Course 1
ATTACH;FMTTYPE=image/jpeg:https://calendar.gardenclub.org/wp-content/uploads/2022/09/planting-hands-adobe_0.jpg
ORGANIZER;CN="Karen%20Taylor":MAILTO:karentaylor82757@gmail.com
END:VEVENT
BEGIN:VEVENT
DTSTART;TZID=America/New_York:20250814T080000
DTEND;TZID=America/New_York:20250815T170000
DTSTAMP:20260419T161428
CREATED:20241002T191059Z
LAST-MODIFIED:20241002T191059Z
UID:19120-1755158400-1755277200@calendar.gardenclub.org
SUMMARY:Gardening School Course 2 - Encino\, CA (In-Person Classroom)
DESCRIPTION:
URL:https://calendar.gardenclub.org/event/gardening-school-course-2-encino-ca-in-person-classroom/
LOCATION:Encino\, CA\, Encino\, California
CATEGORIES:Gardening School,School Course 2
ATTACH;FMTTYPE=image/jpeg:https://calendar.gardenclub.org/wp-content/uploads/2022/09/planting-hands-adobe_0.jpg
ORGANIZER;CN="Robin%20Pokorski":MAILTO:GCIRobin@gmail.com
END:VEVENT
BEGIN:VEVENT
DTSTART;VALUE=DATE:20250826
DTEND;VALUE=DATE:20250828
DTSTAMP:20260419T161428
CREATED:20250424T153209Z
LAST-MODIFIED:20250424T153209Z
UID:19271-1756166400-1756339199@calendar.gardenclub.org
SUMMARY:Gardening School Course 4 - Abbeville\, LA
DESCRIPTION:
URL:https://calendar.gardenclub.org/event/gardening-school-course-4-abbeville-la/
LOCATION:Abbeville\, LA\, Abbeville\, LA\, United States
CATEGORIES:Gardening School,School Course 4
ATTACH;FMTTYPE=image/jpeg:https://calendar.gardenclub.org/wp-content/uploads/2022/09/planting-hands-adobe_0.jpg
ORGANIZER;CN="Roxanna%20Champagne":MAILTO:ROXANNACHAMP@COX.NET
END:VEVENT
END:VCALENDAR