BEGIN:VCALENDAR
VERSION:2.0
PRODID:-//National Garden Clubs - Calendar - ECPv5.16.0//NONSGML v1.0//EN
CALSCALE:GREGORIAN
METHOD:PUBLISH
X-WR-CALNAME:National Garden Clubs - Calendar
X-ORIGINAL-URL:https://calendar.gardenclub.org
X-WR-CALDESC:Events for National Garden Clubs - Calendar
REFRESH-INTERVAL;VALUE=DURATION:PT1H
X-Robots-Tag:noindex
X-PUBLISHED-TTL:PT1H
BEGIN:VTIMEZONE
TZID:America/New_York
BEGIN:DAYLIGHT
TZOFFSETFROM:-0500
TZOFFSETTO:-0400
TZNAME:EDT
DTSTART:20250309T070000
END:DAYLIGHT
BEGIN:STANDARD
TZOFFSETFROM:-0400
TZOFFSETTO:-0500
TZNAME:EST
DTSTART:20251102T060000
END:STANDARD
END:VTIMEZONE
BEGIN:VEVENT
DTSTART;VALUE=DATE:20250929
DTEND;VALUE=DATE:20251002
DTSTAMP:20260419T124215
CREATED:20250423T151253Z
LAST-MODIFIED:20250423T151253Z
UID:19269-1759104000-1759363199@calendar.gardenclub.org
SUMMARY:Gardening School Course 3 - New Smyrna Beach\, FL
DESCRIPTION:There will be a required Zoom Tech & Course Review Meeting on Friday 9/26/2025 \nSee “Course Brochure” for more info.
URL:https://calendar.gardenclub.org/event/gardening-school-course-3-new-smyrna-beach-fl/
LOCATION:New Smyrna Beach\, FL\, Florida
CATEGORIES:Gardening School,School Course 3
ATTACH;FMTTYPE=image/jpeg:https://calendar.gardenclub.org/wp-content/uploads/2022/09/planting-hands-adobe_0.jpg
ORGANIZER;CN="Sally%20Flanagan":MAILTO:sfflan@aol.com
END:VEVENT
BEGIN:VEVENT
DTSTART;VALUE=DATE:20251015
DTEND;VALUE=DATE:20251017
DTSTAMP:20260419T124215
CREATED:20250519T143843Z
LAST-MODIFIED:20250612T154927Z
UID:19288-1760486400-1760659199@calendar.gardenclub.org
SUMMARY:Tri-Refresher - Westerville\, OH (Virtual Zoom Course)
DESCRIPTION:Tri-Refresher:\n\nTri-Refresher in Environmental\, Landscape Design\, and Gardening Schools \n\nTopics: \n\nIndoor and Outdoor Pollution\nHouseplants: Do Your Houseplants Hate You?\nLandscape Design: Principals and Elements\nOSU Field Trials
URL:https://calendar.gardenclub.org/event/tri-refresher-westerville-oh-virtual-zoom-course/
LOCATION:Westerville\, OH\, Westerville\, OH\, United States
CATEGORIES:Environmental School,Gardening School,Landscape Design School,Multiple Refresher School,Virtual School
ATTACH;FMTTYPE=image/jpeg:https://calendar.gardenclub.org/wp-content/uploads/2022/04/hero_image.jpg
ORGANIZER;CN="Pat%20Rupiper":MAILTO:patrupiper@gmail.com
END:VEVENT
BEGIN:VEVENT
DTSTART;VALUE=DATE:20251019
DTEND;VALUE=DATE:20251023
DTSTAMP:20260419T124215
CREATED:20250623T151035Z
LAST-MODIFIED:20250623T151035Z
UID:19337-1760832000-1761177599@calendar.gardenclub.org
SUMMARY:Multiple Refresher - Tri-Refresher in Cambridge\, MD
DESCRIPTION:Tri-Refresher in Environmental\, Landscape Design\, and Gardening Schools \nHosted by the 2025 CAR-SGC Conference in Maryland \nhttps://www.car-sgc.org/2025-conference
URL:https://calendar.gardenclub.org/event/multiple-refresher-tri-refresher-in-cambridge-md/
LOCATION:Cambridge\, MD\, MD\, United States
CATEGORIES:Environmental School,Gardening School,Landscape Design School,Multiple Refresher School
ATTACH;FMTTYPE=image/jpeg:https://calendar.gardenclub.org/wp-content/uploads/2022/04/hero_image.jpg
END:VEVENT
BEGIN:VEVENT
DTSTART;VALUE=DATE:20251023
DTEND;VALUE=DATE:20251025
DTSTAMP:20260419T124215
CREATED:20241002T191643Z
LAST-MODIFIED:20241002T191643Z
UID:19122-1761177600-1761350399@calendar.gardenclub.org
SUMMARY:Gardening School Course 4 - Encino\, CA (In-Person Classroom)
DESCRIPTION:
URL:https://calendar.gardenclub.org/event/gardening-school-course-4-encino-ca-in-person-classroom/
LOCATION:Encino\, CA\, Encino\, California
CATEGORIES:Gardening School,School Course 4
ATTACH;FMTTYPE=image/jpeg:https://calendar.gardenclub.org/wp-content/uploads/2022/09/planting-hands-adobe_0.jpg
ORGANIZER;CN="Robin%20Pokorski":MAILTO:GCIRobin@gmail.com
END:VEVENT
BEGIN:VEVENT
DTSTART;VALUE=DATE:20251029
DTEND;VALUE=DATE:20251031
DTSTAMP:20260419T124215
CREATED:20250702T133742Z
LAST-MODIFIED:20250702T133742Z
UID:19349-1761696000-1761868799@calendar.gardenclub.org
SUMMARY:Gardening School Course 4 - Tacoma\, WA (In-Person Course)
DESCRIPTION:In-Person Course
URL:https://calendar.gardenclub.org/event/gardening-school-course-4-tacoma-wa-in-person-course/
LOCATION:Tacoma\, WA\, Tacoma\, WA
CATEGORIES:Gardening School,School Course 4
ATTACH;FMTTYPE=image/jpeg:https://calendar.gardenclub.org/wp-content/uploads/2022/09/planting-hands-adobe_0.jpg
ORGANIZER;CN="Kathy%20Johnson":MAILTO:kathyj16@msn.com
END:VEVENT
END:VCALENDAR