BEGIN:VCALENDAR
VERSION:2.0
PRODID:-//National Garden Clubs - Calendar - ECPv5.16.0//NONSGML v1.0//EN
CALSCALE:GREGORIAN
METHOD:PUBLISH
X-WR-CALNAME:National Garden Clubs - Calendar
X-ORIGINAL-URL:https://calendar.gardenclub.org
X-WR-CALDESC:Events for National Garden Clubs - Calendar
REFRESH-INTERVAL;VALUE=DURATION:PT1H
X-Robots-Tag:noindex
X-PUBLISHED-TTL:PT1H
BEGIN:VTIMEZONE
TZID:America/New_York
BEGIN:DAYLIGHT
TZOFFSETFROM:-0500
TZOFFSETTO:-0400
TZNAME:EDT
DTSTART:20240310T070000
END:DAYLIGHT
BEGIN:STANDARD
TZOFFSETFROM:-0400
TZOFFSETTO:-0500
TZNAME:EST
DTSTART:20241103T060000
END:STANDARD
END:VTIMEZONE
BEGIN:VEVENT
DTSTART;VALUE=DATE:20240821
DTEND;VALUE=DATE:20240823
DTSTAMP:20260420T002206
CREATED:20240129T160929Z
LAST-MODIFIED:20240129T160929Z
UID:18888-1724198400-1724371199@calendar.gardenclub.org
SUMMARY:Flower Show School Symposium - Knoxville\, TN
DESCRIPTION:Design :Frances Thrash\n\nTopics: Panels and Exhibition Tables \nAllied Topic: Design Techniques \n\n\n\nHorticulture :Pam Braun\n\nTopic: Collections and Displays \nAllied Topic: Horticulture Tips and Tricks 101
URL:https://calendar.gardenclub.org/event/flower-show-school-symposium-knoxville-tn/
LOCATION:Knoxville\, TN\, Knoxville\, Tennessee
CATEGORIES:Flower Show School,Symposium School
ATTACH;FMTTYPE=image/jpeg:https://calendar.gardenclub.org/wp-content/uploads/2022/09/fss-img-scaled-1.jpg
ORGANIZER;CN="Lori%20Emery":MAILTO:laemery20@hotmail.com
END:VEVENT
BEGIN:VEVENT
DTSTART;VALUE=DATE:20240822
DTEND;VALUE=DATE:20240824
DTSTAMP:20260420T002206
CREATED:20240312T200507Z
LAST-MODIFIED:20240328T183216Z
UID:18952-1724284800-1724457599@calendar.gardenclub.org
SUMMARY:Flower Show School Symposium - Burlington\, KY
DESCRIPTION:Horticulture: Sue Kirkman\n\nTopics: Philodendron\, Monstera\, and Pothos \nAllied Topics: Botanical Arts in Horticulture \n\n\n\nDesign: Julia Clevett\n\nTopic: A Comparative Look at Design Types \nAllied Topic: Botanical Arts in Design
URL:https://calendar.gardenclub.org/event/flower-show-school-symposium-burlington-ky/
LOCATION:Burlington\, KY\, Burlington\, Kentucky
CATEGORIES:Flower Show School,Symposium School
ATTACH;FMTTYPE=image/jpeg:https://calendar.gardenclub.org/wp-content/uploads/2022/09/fss-img-scaled-1.jpg
ORGANIZER;CN="Carla%20Hawkins":MAILTO:cchawk749@yahoo.com
END:VEVENT
BEGIN:VEVENT
DTSTART;VALUE=DATE:20240826
DTEND;VALUE=DATE:20240830
DTSTAMP:20260420T002206
CREATED:20240521T170429Z
LAST-MODIFIED:20240521T170429Z
UID:19005-1724630400-1724975999@calendar.gardenclub.org
SUMMARY:Flower Show School Course 3 - Roanoke\, VA
DESCRIPTION:Flower Show Procedure & Horticulture: Darlene Newell\n\nHorticulture Topics: Cut Hosta & Combination Plantings \n\n\n\nDesign: Kathleen Hawryluk\n\nDesign Topics: Creative Designs
URL:https://calendar.gardenclub.org/event/flower-show-school-course-3-roanoke-va/
LOCATION:Roanoke\, VA\, Roanoke\, VA
CATEGORIES:Flower Show School,School Course 3
ATTACH;FMTTYPE=image/jpeg:https://calendar.gardenclub.org/wp-content/uploads/2022/09/fss-img-scaled-1.jpg
ORGANIZER;CN="Brenda%20McManaway":MAILTO:brendamc@shentel.net
END:VEVENT
BEGIN:VEVENT
DTSTART;VALUE=DATE:20240826
DTEND;VALUE=DATE:20240828
DTSTAMP:20260420T002206
CREATED:20240508T133315Z
LAST-MODIFIED:20240508T133315Z
UID:18995-1724630400-1724803199@calendar.gardenclub.org
SUMMARY:Gardening School Course 3 - San Antonio\, TX
DESCRIPTION:IN-PERSON CLASSROOM
URL:https://calendar.gardenclub.org/event/gardening-school-course-3-san-antonio-tx/
LOCATION:San Antonio\, TX\, San Antonio\, TX
CATEGORIES:Gardening School,School Course 3
ATTACH;FMTTYPE=image/jpeg:https://calendar.gardenclub.org/wp-content/uploads/2022/09/planting-hands-adobe_0.jpg
ORGANIZER;CN="Karen%20Taylor":MAILTO:karentaylor82757@gmail.com
END:VEVENT
BEGIN:VEVENT
DTSTART;VALUE=DATE:20240828
DTEND;VALUE=DATE:20240831
DTSTAMP:20260420T002206
CREATED:20240503T214154Z
LAST-MODIFIED:20240503T214154Z
UID:18988-1724803200-1725062399@calendar.gardenclub.org
SUMMARY:Flower Show School Course 2 - Red Bluff\, CA
DESCRIPTION:Flower Show Procedure & Horticulture: David Robson\n\nHorticulture Topics: Conifers and Capitulum \n\n\n\nDesign: Gina Jogan\n\nDesign Topics: Table Settings and Petites
URL:https://calendar.gardenclub.org/event/flower-show-school-course-2-red-bluff-ca/
LOCATION:Red Bluff\, CA\, 11890 Craig Ave\, Red Bluff\, CA\, 96080\, United States
CATEGORIES:Flower Show School,School Course 2
ATTACH;FMTTYPE=image/jpeg:https://calendar.gardenclub.org/wp-content/uploads/2022/09/fss-img-scaled-1.jpg
ORGANIZER;CN="Fran%20Galantine":MAILTO:frangalantine@gmail.com
END:VEVENT
BEGIN:VEVENT
DTSTART;VALUE=DATE:20240904
DTEND;VALUE=DATE:20240906
DTSTAMP:20260420T002206
CREATED:20240318T162709Z
LAST-MODIFIED:20240318T162709Z
UID:18957-1725408000-1725580799@calendar.gardenclub.org
SUMMARY:Gardening School Course 3 - Abbeville\, LA
DESCRIPTION:In-Person Classroom
URL:https://calendar.gardenclub.org/event/gardening-school-course-3-abbeville-la/
LOCATION:Abbeville\, LA\, Abbeville\, LA\, United States
CATEGORIES:Gardening School,School Course 3
ATTACH;FMTTYPE=image/jpeg:https://calendar.gardenclub.org/wp-content/uploads/2022/09/planting-hands-adobe_0.jpg
ORGANIZER;CN="Roxanna%20Champagne":MAILTO:ROXANNACHAMP@COX.NET
END:VEVENT
END:VCALENDAR