BEGIN:VCALENDAR
VERSION:2.0
PRODID:-//National Garden Clubs - Calendar - ECPv5.16.0//NONSGML v1.0//EN
CALSCALE:GREGORIAN
METHOD:PUBLISH
X-WR-CALNAME:National Garden Clubs - Calendar
X-ORIGINAL-URL:https://calendar.gardenclub.org
X-WR-CALDESC:Events for National Garden Clubs - Calendar
REFRESH-INTERVAL;VALUE=DURATION:PT1H
X-Robots-Tag:noindex
X-PUBLISHED-TTL:PT1H
BEGIN:VTIMEZONE
TZID:America/New_York
BEGIN:DAYLIGHT
TZOFFSETFROM:-0500
TZOFFSETTO:-0400
TZNAME:EDT
DTSTART:20250309T070000
END:DAYLIGHT
BEGIN:STANDARD
TZOFFSETFROM:-0400
TZOFFSETTO:-0500
TZNAME:EST
DTSTART:20251102T060000
END:STANDARD
END:VTIMEZONE
BEGIN:VEVENT
DTSTART;VALUE=DATE:20250826
DTEND;VALUE=DATE:20250828
DTSTAMP:20260420T174420
CREATED:20240829T134607Z
LAST-MODIFIED:20240829T134607Z
UID:19085-1756166400-1756339199@calendar.gardenclub.org
SUMMARY:Landscape Design School Course 1 - Elizabethtown\, KY
DESCRIPTION:IN-PERSON COURSE
URL:https://calendar.gardenclub.org/event/landscape-design-school-course-1-elizabethtown-ky/
LOCATION:Elizabethtown\, KY\, Elizabethtown\, Kentucky
CATEGORIES:Landscape Design School,School Course 1
ATTACH;FMTTYPE=image/jpeg:https://calendar.gardenclub.org/wp-content/uploads/2022/09/landscape-design-adobe.jpg
ORGANIZER;CN="Debbie%20Skaggs":MAILTO:skaggs@scrtc.com
END:VEVENT
BEGIN:VEVENT
DTSTART;VALUE=DATE:20250912
DTEND;VALUE=DATE:20250914
DTSTAMP:20260420T174420
CREATED:20250605T140011Z
LAST-MODIFIED:20250605T140011Z
UID:19318-1757635200-1757807999@calendar.gardenclub.org
SUMMARY:Gardening School Course 2 - Sawyer\, MI (In-Person Course)
DESCRIPTION:In-Person Course
URL:https://calendar.gardenclub.org/event/gardening-school-course-2-sawyer-mi-in-person-course/
LOCATION:Sawyer\, MI\, Sawyer\, MI\, United States
CATEGORIES:Gardening School,School Course 2
ATTACH;FMTTYPE=image/jpeg:https://calendar.gardenclub.org/wp-content/uploads/2022/09/planting-hands-adobe_0.jpg
ORGANIZER;CN="Michele%20Armstrong":MAILTO:marmstrong@migardenclubs.org
END:VEVENT
BEGIN:VEVENT
DTSTART;VALUE=DATE:20250916
DTEND;VALUE=DATE:20250918
DTSTAMP:20260420T174420
CREATED:20250623T143317Z
LAST-MODIFIED:20250623T143317Z
UID:19332-1757980800-1758153599@calendar.gardenclub.org
SUMMARY:Flower Show School Symposium - Bethesda\, MD
DESCRIPTION:Horticulture: David Robson\n\nTopic: Coleus and Capitulum \nAllied Topic: Subdividing Horticulture \n\n\n\nDesign: Gina Jogan\n\nTopic: Floor Designs and Luminary/Reflective Designs \nAllied Topic: Contrived Forms (Hands-On)
URL:https://calendar.gardenclub.org/event/flower-show-school-symposium-bethesda-md/
LOCATION:Bethesda\, MD\, MD\, United States
CATEGORIES:Flower Show School,Symposium School
ATTACH;FMTTYPE=image/jpeg:https://calendar.gardenclub.org/wp-content/uploads/2022/09/fss-img-scaled-1.jpg
ORGANIZER;CN="Jo%20Sellers":MAILTO:josellers@cox.net
END:VEVENT
BEGIN:VEVENT
DTSTART;VALUE=DATE:20250917
DTEND;VALUE=DATE:20250921
DTSTAMP:20260420T174420
CREATED:20250818T170136Z
LAST-MODIFIED:20250818T170136Z
UID:19385-1758067200-1758412799@calendar.gardenclub.org
SUMMARY:Flower Show School Course 3 - Mt. Vernon\, KY
DESCRIPTION:FSP & Design Instructor: Frances Thrash \n\n\n\nFlower Show Procedure (FSP)\nDesign Topic: Creative Design\n\n\n\n\nHorticulture Instructor: Sue Kirkman \n\n\n\nHort. Topic: Combination Plantings\, Dahlias
URL:https://calendar.gardenclub.org/event/flower-show-school-course-3-mt-vernon-ky/
LOCATION:Mt. Vernon\, KY\, Mt. Vernon\, KY\, United States
CATEGORIES:Flower Show School,School Course 3
ATTACH;FMTTYPE=image/jpeg:https://calendar.gardenclub.org/wp-content/uploads/2022/09/fss-img-scaled-1.jpg
ORGANIZER;CN="Mary%20Ann%20Hext":MAILTO:mhext@outlook.com
END:VEVENT
BEGIN:VEVENT
DTSTART;VALUE=DATE:20250918
DTEND;VALUE=DATE:20250919
DTSTAMP:20260420T174420
CREATED:20250813T133431Z
LAST-MODIFIED:20250813T133529Z
UID:19375-1758153600-1758239999@calendar.gardenclub.org
SUMMARY:2025 NGC Virtual Fall Board Meeting
DESCRIPTION:
URL:https://calendar.gardenclub.org/event/2025-ngc-virtual-fall-board-meeting/
LOCATION:VIRTUAL
CATEGORIES:Fall Board Meeting
ATTACH;FMTTYPE=image/jpeg:https://calendar.gardenclub.org/wp-content/uploads/2025/08/online-learning-adobe.jpg
END:VEVENT
BEGIN:VEVENT
DTSTART;VALUE=DATE:20250918
DTEND;VALUE=DATE:20250920
DTSTAMP:20260420T174420
CREATED:20250605T140919Z
LAST-MODIFIED:20250605T140919Z
UID:19323-1758153600-1758326399@calendar.gardenclub.org
SUMMARY:Gardening School Course 4 - Sawyer\, MI (In-Person Course)
DESCRIPTION:In-Person Course
URL:https://calendar.gardenclub.org/event/gardening-school-course-4-sawyer-mi-in-person-course/
LOCATION:Sawyer\, MI\, Sawyer\, MI\, United States
CATEGORIES:Gardening School,School Course 4
ATTACH;FMTTYPE=image/jpeg:https://calendar.gardenclub.org/wp-content/uploads/2022/09/planting-hands-adobe_0.jpg
ORGANIZER;CN="Michele%20Armstrong":MAILTO:marmstrong@migardenclubs.org
END:VEVENT
BEGIN:VEVENT
DTSTART;VALUE=DATE:20250918
DTEND;VALUE=DATE:20250920
DTSTAMP:20260420T174420
CREATED:20250115T152336Z
LAST-MODIFIED:20250115T152724Z
UID:19189-1758153600-1758326399@calendar.gardenclub.org
SUMMARY:Environmental School Course 4 - Derby\, CT (Virtual Zoom Course)
DESCRIPTION:Virtual via Zoom
URL:https://calendar.gardenclub.org/event/environmental-school-course-4-derby-ct-virtual-zoom-course/
LOCATION:Derby\, CT\, Derby\, CT
CATEGORIES:Environmental School,School Course 4
ATTACH;FMTTYPE=image/jpeg:https://calendar.gardenclub.org/wp-content/uploads/2022/09/ess.jpg
ORGANIZER;CN="Virginia%20Casanova":MAILTO:ginny.casanova@ctgardenclubs.org
END:VEVENT
BEGIN:VEVENT
DTSTART;VALUE=DATE:20250919
DTEND;VALUE=DATE:20250922
DTSTAMP:20260420T174420
CREATED:20250707T144145Z
LAST-MODIFIED:20250707T144145Z
UID:19354-1758240000-1758499199@calendar.gardenclub.org
SUMMARY:Environmental School Course 4 - Mexia\, TX (In-Person Course)
DESCRIPTION:In-Person Course
URL:https://calendar.gardenclub.org/event/environmental-school-course-4-mexia-tx-in-person-course/
LOCATION:Mexia\, TX\, Mexia\, Texas
CATEGORIES:Environmental School,School Course 4
ATTACH;FMTTYPE=image/jpeg:https://calendar.gardenclub.org/wp-content/uploads/2022/09/ess.jpg
ORGANIZER;CN="Sarah%20McReynolds":MAILTO:esarabeth@aol.com
END:VEVENT
BEGIN:VEVENT
DTSTART;VALUE=DATE:20250922
DTEND;VALUE=DATE:20250924
DTSTAMP:20260420T174420
CREATED:20250611T181241Z
LAST-MODIFIED:20250611T181241Z
UID:19328-1758499200-1758671999@calendar.gardenclub.org
SUMMARY:Landscape Design School Course 4 - Lansing\, MI
DESCRIPTION:
URL:https://calendar.gardenclub.org/event/landscape-design-school-course-4-lansing-mi/
LOCATION:Lansing\, MI\, Lansing\, Michigan
CATEGORIES:Landscape Design School,School Course 4
ATTACH;FMTTYPE=image/jpeg:https://calendar.gardenclub.org/wp-content/uploads/2022/09/landscape-design-adobe.jpg
ORGANIZER;CN="Ronalee%20Polad":MAILTO:rpolad@migardenclubs.org
END:VEVENT
BEGIN:VEVENT
DTSTART;VALUE=DATE:20250924
DTEND;VALUE=DATE:20250927
DTSTAMP:20260420T174420
CREATED:20250512T135410Z
LAST-MODIFIED:20250512T135410Z
UID:19286-1758672000-1758931199@calendar.gardenclub.org
SUMMARY:Flower Show School Course 4 - Red Bluff\, CA
DESCRIPTION:Flower Show Procedure & Horticulture: Jan Griffin\n\nHorticulture Topics: Container Grown\, Collections and Displays \n\n\n\nDesign: Judy Binns\n\nDesign Topics: Abstract and Botanical Designs
URL:https://calendar.gardenclub.org/event/flower-show-school-course-4-red-bluff-ca/
LOCATION:Red Bluff\, CA\, 11890 Craig Ave\, Red Bluff\, CA\, 96080\, United States
CATEGORIES:Flower Show School,School Course 4
ATTACH;FMTTYPE=image/jpeg:https://calendar.gardenclub.org/wp-content/uploads/2022/09/fss-img-scaled-1.jpg
ORGANIZER;CN="Fran%20Galantine":MAILTO:frangalantine@gmail.com
END:VEVENT
BEGIN:VEVENT
DTSTART;VALUE=DATE:20250925
DTEND;VALUE=DATE:20250927
DTSTAMP:20260420T174420
CREATED:20250630T133424Z
LAST-MODIFIED:20250630T133424Z
UID:19344-1758758400-1758931199@calendar.gardenclub.org
SUMMARY:Gardening School Course 2 - New Haven\, CT (VIRTUAL Course)
DESCRIPTION:Virtual Course
URL:https://calendar.gardenclub.org/event/gardening-school-course-2-new-haven-ct-virtual-course/
LOCATION:New Haven\, CT\, CT\, United States
CATEGORIES:Gardening School,School Course 2
ATTACH;FMTTYPE=image/jpeg:https://calendar.gardenclub.org/wp-content/uploads/2022/09/planting-hands-adobe_0.jpg
END:VEVENT
BEGIN:VEVENT
DTSTART;VALUE=DATE:20250925
DTEND;VALUE=DATE:20250928
DTSTAMP:20260420T174420
CREATED:20250604T140907Z
LAST-MODIFIED:20250604T140907Z
UID:19313-1758758400-1759017599@calendar.gardenclub.org
SUMMARY:Flower Show School Course 1 (Design Only) - Poway\, CA
DESCRIPTION:Design: Gina Jogan\n\nDesign Topic: Traditional Floral Design
URL:https://calendar.gardenclub.org/event/flower-show-school-course-1-design-only-poway-ca/
LOCATION:Poway\, CA\, Poway\, California
CATEGORIES:Flower Show School,School Course 1
ATTACH;FMTTYPE=image/jpeg:https://calendar.gardenclub.org/wp-content/uploads/2022/09/fss-img-scaled-1.jpg
ORGANIZER;CN="Laura%20Crenshaw":MAILTO:lrock1221@sbcglobal.net
END:VEVENT
BEGIN:VEVENT
DTSTART;VALUE=DATE:20250925
DTEND;VALUE=DATE:20250928
DTSTAMP:20260420T174420
CREATED:20250505T144804Z
LAST-MODIFIED:20250707T182411Z
UID:19283-1758758400-1759017599@calendar.gardenclub.org
SUMMARY:Flower Show School Course 2 - Poway\, CA
DESCRIPTION:Flower Show Procedure & Horticulture: David Robson\n\nHorticulture Topics: Herbs\, Potted\, Chrysanthemum\, Cut \n\n\n\nDesign: Gina Jogan\n\nDesign Topics: Table Designs
URL:https://calendar.gardenclub.org/event/flower-show-school-course-2-poway-ca/
LOCATION:Poway\, CA\, Poway\, California
CATEGORIES:Flower Show School,School Course 2
ATTACH;FMTTYPE=image/jpeg:https://calendar.gardenclub.org/wp-content/uploads/2022/09/fss-img-scaled-1.jpg
ORGANIZER;CN="Laura%20Crenshaw":MAILTO:lrock1221@sbcglobal.net
END:VEVENT
BEGIN:VEVENT
DTSTART;VALUE=DATE:20250925
DTEND;VALUE=DATE:20250927
DTSTAMP:20260420T174420
CREATED:20241002T190819Z
LAST-MODIFIED:20241002T190819Z
UID:19118-1758758400-1758931199@calendar.gardenclub.org
SUMMARY:Gardening School Course 3 - Encino\, CA (In-Person Classroom)
DESCRIPTION:
URL:https://calendar.gardenclub.org/event/gardening-school-course-3-encino-ca-in-person-classroom/
LOCATION:Encino\, CA\, Encino\, California
CATEGORIES:Gardening School,School Course 3
ATTACH;FMTTYPE=image/jpeg:https://calendar.gardenclub.org/wp-content/uploads/2022/09/planting-hands-adobe_0.jpg
ORGANIZER;CN="Robin%20Pokorski":MAILTO:GCIRobin@gmail.com
END:VEVENT
BEGIN:VEVENT
DTSTART;VALUE=DATE:20250926
DTEND;VALUE=DATE:20250928
DTSTAMP:20260420T174420
CREATED:20250317T134712Z
LAST-MODIFIED:20250317T134712Z
UID:19249-1758844800-1759017599@calendar.gardenclub.org
SUMMARY:Environmental School Course 3 - Sheboygan\, WI (In-Person Classroom)
DESCRIPTION:IN-PERSON CLASSROOM
URL:https://calendar.gardenclub.org/event/environmental-school-course-3-sheboygan-wi-in-person-classroom/
LOCATION:Sheboygan\, WI\, Sheboygan\, WI
CATEGORIES:Environmental School,School Course 3
ATTACH;FMTTYPE=image/jpeg:https://calendar.gardenclub.org/wp-content/uploads/2022/09/ess.jpg
ORGANIZER;CN="Karen%20Merlau":MAILTO:kmerlau@tds.net
END:VEVENT
END:VCALENDAR