BEGIN:VCALENDAR
VERSION:2.0
PRODID:-//National Garden Clubs - Calendar - ECPv5.16.0//NONSGML v1.0//EN
CALSCALE:GREGORIAN
METHOD:PUBLISH
X-ORIGINAL-URL:https://calendar.gardenclub.org
X-WR-CALDESC:Events for National Garden Clubs - Calendar
REFRESH-INTERVAL;VALUE=DURATION:PT1H
X-Robots-Tag:noindex
X-PUBLISHED-TTL:PT1H
BEGIN:VTIMEZONE
TZID:America/New_York
BEGIN:DAYLIGHT
TZOFFSETFROM:-0500
TZOFFSETTO:-0400
TZNAME:EDT
DTSTART:20250309T070000
END:DAYLIGHT
BEGIN:STANDARD
TZOFFSETFROM:-0400
TZOFFSETTO:-0500
TZNAME:EST
DTSTART:20251102T060000
END:STANDARD
END:VTIMEZONE
BEGIN:VEVENT
DTSTART;VALUE=DATE:20250401
DTEND;VALUE=DATE:20250404
DTSTAMP:20260420T014949
CREATED:20241217T161533Z
LAST-MODIFIED:20250227T190526Z
UID:19168-1743465600-1743724799@calendar.gardenclub.org
SUMMARY:Flower Show School Course 1 - Voorheesville\, NY
DESCRIPTION:Flower Show Procedure: Carol English\n\nThe FSP portion will be virtual via Zoom \n\n\n\nHorticulture: Cathy Felton\n\nHorticulture Topics: Spring Bulbs\, Container-Grown Begonias \n\n\n\nDesign: Judy Binns\n\nDesign Topics: Traditional Line\, Line Mass\, Mass
URL:https://calendar.gardenclub.org/event/flower-show-school-course-1-voorhees-ny/
LOCATION:Voorheesville\, NY\, Voorheesville\, NY\, United States
CATEGORIES:Flower Show School,School Course 1
ATTACH;FMTTYPE=image/jpeg:https://calendar.gardenclub.org/wp-content/uploads/2022/09/fss-img-scaled-1.jpg
ORGANIZER;CN="Gail%20Berti":MAILTO:chiara215@aol.com
END:VEVENT
BEGIN:VEVENT
DTSTART;VALUE=DATE:20250402
DTEND;VALUE=DATE:20250406
DTSTAMP:20260420T014949
CREATED:20250317T140230Z
LAST-MODIFIED:20250317T140230Z
UID:19251-1743552000-1743897599@calendar.gardenclub.org
SUMMARY:Flower Show School Course 2 - Frankfort\, KY
DESCRIPTION:FSP & Horticulture: Pam Braun\n\nHorticulture Topics: Flowering Spring Branches and Spring Bulbs \n\n\n\nDesign: Shirley Tetrault\n\nDesign Topics: Tables and Petites
URL:https://calendar.gardenclub.org/event/flower-show-school-course-2-frankfort-ky/
LOCATION:Frankfort\, KY\, Frankfort\, KY
CATEGORIES:Flower Show School,School Course 2
ATTACH;FMTTYPE=image/jpeg:https://calendar.gardenclub.org/wp-content/uploads/2022/09/fss-img-scaled-1.jpg
ORGANIZER;CN="Carla%20Hawkins":MAILTO:cchawk749@yahoo.com
END:VEVENT
BEGIN:VEVENT
DTSTART;VALUE=DATE:20250406
DTEND;VALUE=DATE:20250408
DTSTAMP:20260420T014949
CREATED:20250523T195522Z
LAST-MODIFIED:20250523T195522Z
UID:19295-1743897600-1744070399@calendar.gardenclub.org
SUMMARY:Environmental School Course 3 - Augusta\, MI
DESCRIPTION:This is an in-person course.
URL:https://calendar.gardenclub.org/event/environmental-school-course-3-augusta-mi/
LOCATION:Augusta\, MI\, Augusta\, MI\, United States
CATEGORIES:Environmental School,School Course 3
ATTACH;FMTTYPE=image/jpeg:https://calendar.gardenclub.org/wp-content/uploads/2022/09/ess.jpg
ORGANIZER;CN="Beth%20Markowski":MAILTO:markowski.beth@gmail.com
END:VEVENT
BEGIN:VEVENT
DTSTART;VALUE=DATE:20250407
DTEND;VALUE=DATE:20250409
DTSTAMP:20260420T014949
CREATED:20241218T145651Z
LAST-MODIFIED:20241218T145651Z
UID:19172-1743984000-1744156799@calendar.gardenclub.org
SUMMARY:Environmental School Course 1 - Augusta\, MI (In-Person Classroom)
DESCRIPTION:IN-PERSON CLASSROOM
URL:https://calendar.gardenclub.org/event/environmental-school-course-1-augusta-mi-in-person-classroom/
LOCATION:Augusta\, MI\, Augusta\, MI\, United States
CATEGORIES:Environmental School,School Course 1
ATTACH;FMTTYPE=image/jpeg:https://calendar.gardenclub.org/wp-content/uploads/2022/09/ess.jpg
ORGANIZER;CN="Bunny%20LaDuke":MAILTO:rladuke@migardenclubs.org
END:VEVENT
BEGIN:VEVENT
DTSTART;VALUE=DATE:20250407
DTEND;VALUE=DATE:20250409
DTSTAMP:20260420T014949
CREATED:20250113T163934Z
LAST-MODIFIED:20250113T163934Z
UID:19183-1743984000-1744156799@calendar.gardenclub.org
SUMMARY:Landscape Design School Course 4 - Richmond\, VA (IN-PERSON)
DESCRIPTION:IN-PERSON CLASSROOM
URL:https://calendar.gardenclub.org/event/landscape-design-school-course-4-richmond-va-in-person/
LOCATION:Richmond\, VA\, Richmond\, VA
CATEGORIES:Landscape Design School,School Course 4
ATTACH;FMTTYPE=image/jpeg:https://calendar.gardenclub.org/wp-content/uploads/2022/09/landscape-design-adobe.jpg
ORGANIZER;CN="Glenda%20Knowles":MAILTO:ggknowles6@gmail.com
END:VEVENT
BEGIN:VEVENT
DTSTART;TZID=America/New_York:20250407T130000
DTEND;TZID=America/New_York:20250407T140000
DTSTAMP:20260420T014949
CREATED:20240828T204436Z
LAST-MODIFIED:20240828T204436Z
UID:19083-1744030800-1744034400@calendar.gardenclub.org
SUMMARY:Membership Monday
DESCRIPTION:
URL:https://calendar.gardenclub.org/event/membership-monday-6/
LOCATION:VIRTUAL
CATEGORIES:Membership Monday Zoom
END:VEVENT
BEGIN:VEVENT
DTSTART;VALUE=DATE:20250408
DTEND;VALUE=DATE:20250411
DTSTAMP:20260420T014949
CREATED:20241030T142315Z
LAST-MODIFIED:20241202T152942Z
UID:19143-1744070400-1744329599@calendar.gardenclub.org
SUMMARY:Tri-Refresher - Jacksonville\, FL
DESCRIPTION:Tri-Refresher in Environmental\, Landscape Design\, and Gardening Schools \nSponsored by Florida Federation of Garden Clubs\, Inc.
URL:https://calendar.gardenclub.org/event/tri-refresher-jacksonville-fl/
LOCATION:Jacksonville\, FL\, Jacksonville\, FL\, United States
CATEGORIES:Environmental School,Gardening School,Landscape Design School,Multiple Refresher School
ATTACH;FMTTYPE=image/jpeg:https://calendar.gardenclub.org/wp-content/uploads/2022/04/hero_image.jpg
ORGANIZER;CN="Jennifer%20Barber":MAILTO:jenniferbarberffgc@gmail.com
END:VEVENT
BEGIN:VEVENT
DTSTART;VALUE=DATE:20250409
DTEND;VALUE=DATE:20250411
DTSTAMP:20260420T014949
CREATED:20250306T150058Z
LAST-MODIFIED:20250306T155533Z
UID:19244-1744156800-1744329599@calendar.gardenclub.org
SUMMARY:Gardening School Course 3 - Virtual Zoom Course (MA)
DESCRIPTION:Course is 8:00AM – 12:30PM each day
URL:https://calendar.gardenclub.org/event/gardening-school-course-3-virtual-zoom-course-ma/
LOCATION:VIRTUAL
CATEGORIES:Gardening School,School Course 3,Virtual School
ATTACH;FMTTYPE=image/jpeg:https://calendar.gardenclub.org/wp-content/uploads/2022/09/planting-hands-adobe_0.jpg
ORGANIZER;CN="Linda%20Jean%20Smith":MAILTO:lindajean.smith@comcast.net
END:VEVENT
BEGIN:VEVENT
DTSTART;VALUE=DATE:20250412
DTEND;VALUE=DATE:20250416
DTSTAMP:20260420T014949
CREATED:20250115T153103Z
LAST-MODIFIED:20250115T153103Z
UID:19191-1744416000-1744761599@calendar.gardenclub.org
SUMMARY:Flower Show School Course 2 - Milford\, MA
DESCRIPTION:Flower Show Procedure: Barbara May\n\nFSP will be Virtual via Zoom \n\n\n\nHorticulture: Pam Braun\n\nHorticulture Topics: Daffodils\, Flowering Branches \n\n\n\nDesign:  Cathy Waitinas\n\nDesign Topics: Tables\, Petite Designs
URL:https://calendar.gardenclub.org/event/flower-show-school-course-2-milford-ma/
LOCATION:Milford\, MA\, Milford\, MA
CATEGORIES:Flower Show School,School Course 2
ATTACH;FMTTYPE=image/jpeg:https://calendar.gardenclub.org/wp-content/uploads/2022/09/fss-img-scaled-1.jpg
ORGANIZER;CN="Kathy%20Hawes":MAILTO:kmh4383@gmail.com
END:VEVENT
BEGIN:VEVENT
DTSTART;VALUE=DATE:20250428
DTEND;VALUE=DATE:20250501
DTSTAMP:20260420T014949
CREATED:20241002T142343Z
LAST-MODIFIED:20241002T142343Z
UID:19108-1745798400-1746057599@calendar.gardenclub.org
SUMMARY:Flower Show School Course 1 - Gettysburg\, PA
DESCRIPTION:Flower Show Procedure & Horticulture: Pam Braun\n\nHorticulture Topics: Spring Flowering Bulbs and Flowering Branches \n\n\n\nDesign: Judy Binns\n\nDesign Topics: Traditional Mass\, Line Mass\, and Line Designs
URL:https://calendar.gardenclub.org/event/flower-show-school-course-1-gettysburg-pa/
LOCATION:Gettysburg\, PA\, Gettysburg\, Pennsylvania
CATEGORIES:Flower Show School,School Course 1
ATTACH;FMTTYPE=image/jpeg:https://calendar.gardenclub.org/wp-content/uploads/2022/09/fss-img-scaled-1.jpg
ORGANIZER;CN="Evie%20Matzke":MAILTO:eviemat52@aol.com
END:VEVENT
BEGIN:VEVENT
DTSTART;VALUE=DATE:20250428
DTEND;VALUE=DATE:20250430
DTSTAMP:20260420T014949
CREATED:20250224T150142Z
LAST-MODIFIED:20250224T150142Z
UID:19239-1745798400-1745971199@calendar.gardenclub.org
SUMMARY:Gardening School Course 3 - Tacoma\, WA (IN-PERSON CLASS)
DESCRIPTION:IN-PERSON CLASSROOM
URL:https://calendar.gardenclub.org/event/gardening-school-course-3-tacoma-wa-in-person-class/
LOCATION:Tacoma\, WA\, Tacoma\, WA
CATEGORIES:Gardening School,School Course 3
ATTACH;FMTTYPE=image/jpeg:https://calendar.gardenclub.org/wp-content/uploads/2022/09/planting-hands-adobe_0.jpg
ORGANIZER;CN="Kathy%20Johnson":MAILTO:kathyj16@msn.com
END:VEVENT
BEGIN:VEVENT
DTSTART;VALUE=DATE:20250429
DTEND;VALUE=DATE:20250501
DTSTAMP:20260420T014949
CREATED:20240410T153035Z
LAST-MODIFIED:20240410T153035Z
UID:18969-1745884800-1746057599@calendar.gardenclub.org
SUMMARY:Flower Show School Symposium - Mansfield\, OH
DESCRIPTION:Horticulture: Jan Griffin\n\nOrchids and Aroids \nAllied Topic: Creative Horticulture Staging \n\n\n\nDesign: Frances Thrash\n\nAngular and Cascade Designs \nAllied Topic: Design Techniques
URL:https://calendar.gardenclub.org/event/flower-show-school-symposium-mansfield-oh-2/
LOCATION:Mansfield\, OH\, Mansfield\, OH
CATEGORIES:Flower Show School,Symposium School
ATTACH;FMTTYPE=image/jpeg:https://calendar.gardenclub.org/wp-content/uploads/2022/09/fss-img-scaled-1.jpg
ORGANIZER;CN="Winnie%20Garabis":MAILTO:wgarabis@yahoo.com
END:VEVENT
BEGIN:VEVENT
DTSTART;VALUE=DATE:20250429
DTEND;VALUE=DATE:20250501
DTSTAMP:20260420T014949
CREATED:20240801T182428Z
LAST-MODIFIED:20240801T182428Z
UID:19043-1745884800-1746057599@calendar.gardenclub.org
SUMMARY:Flower Show Symposium - Basking Ridge\, NJ
DESCRIPTION:Horticulture: David Robson\n\nSpring Flowering Branches and Perennials \nAllied Topic: Sub-Dividing \n~ \n\n\n\nDesign: Gina Jogan\n\nAssemblage and Panels \nAllied Topic: Fiber-Work
URL:https://calendar.gardenclub.org/event/flower-show-symposium-basking-ridge-nj/
LOCATION:Basking Ridge\, NJ\, Basking Ridge\, New Jersey
CATEGORIES:Flower Show School,Symposium School
ATTACH;FMTTYPE=image/jpeg:https://calendar.gardenclub.org/wp-content/uploads/2022/09/fss-img-scaled-1.jpg
ORGANIZER;CN="Gail%20Bassolino":MAILTO:cbassolino@aol.com
END:VEVENT
END:VCALENDAR