BEGIN:VCALENDAR
VERSION:2.0
PRODID:-//National Garden Clubs - Calendar - ECPv5.16.0//NONSGML v1.0//EN
CALSCALE:GREGORIAN
METHOD:PUBLISH
X-ORIGINAL-URL:https://calendar.gardenclub.org
X-WR-CALDESC:Events for National Garden Clubs - Calendar
REFRESH-INTERVAL;VALUE=DURATION:PT1H
X-Robots-Tag:noindex
X-PUBLISHED-TTL:PT1H
BEGIN:VTIMEZONE
TZID:America/New_York
BEGIN:DAYLIGHT
TZOFFSETFROM:-0500
TZOFFSETTO:-0400
TZNAME:EDT
DTSTART:20250309T070000
END:DAYLIGHT
BEGIN:STANDARD
TZOFFSETFROM:-0400
TZOFFSETTO:-0500
TZNAME:EST
DTSTART:20251102T060000
END:STANDARD
END:VTIMEZONE
BEGIN:VEVENT
DTSTART;VALUE=DATE:20250601
DTEND;VALUE=DATE:20250604
DTSTAMP:20260420T001251
CREATED:20250312T142427Z
LAST-MODIFIED:20250312T142427Z
UID:19246-1748736000-1748995199@calendar.gardenclub.org
SUMMARY:Multiple Refresher: Tri-Refresher - Gainesville\, FL
DESCRIPTION:Tri-Refresher in Environmental\, Landscape Design\, and Gardening Schools\nHosted at the University of Florida in Gainesville\, FL\nSponsored by District V of Florida Federation of Garden Clubs\, Inc.
URL:https://calendar.gardenclub.org/event/multiple-refresher-tri-refresher-gainesville-fl/
LOCATION:Gainesville\, FL\, Gainesville\, FL
CATEGORIES:Environmental School,Gardening School,Landscape Design School,Multiple Refresher School
ATTACH;FMTTYPE=image/jpeg:https://calendar.gardenclub.org/wp-content/uploads/2022/09/Recycled-Garden-1.jpg
ORGANIZER;CN="Carol%20Binello":MAILTO:carolannbinello@gmail.com
END:VEVENT
BEGIN:VEVENT
DTSTART;VALUE=DATE:20250602
DTEND;VALUE=DATE:20250605
DTSTAMP:20260420T001251
CREATED:20250320T183218Z
LAST-MODIFIED:20250320T183218Z
UID:19253-1748822400-1749081599@calendar.gardenclub.org
SUMMARY:Flower Show School Course 4 - Franklin\, TN
DESCRIPTION:Flower Show Procedure & Design: Lynn Fronk\n\nDesign Topics: Abstract Creative Design \n\n\n\nHorticulture: Jan Griffin\n\nHorticulture Topics: Collections and Hostas
URL:https://calendar.gardenclub.org/event/flower-show-school-course-4-franklin-tn/
LOCATION:Franklin\, TN\, Franklin\, Tennessee
CATEGORIES:Flower Show School,School Course 4
ATTACH;FMTTYPE=image/jpeg:https://calendar.gardenclub.org/wp-content/uploads/2022/09/fss-img-scaled-1.jpg
ORGANIZER;CN="Lori%20Emery":MAILTO:laemery20@hotmail.com
END:VEVENT
BEGIN:VEVENT
DTSTART;VALUE=DATE:20250610
DTEND;VALUE=DATE:20250613
DTSTAMP:20260420T001251
CREATED:20250127T144129Z
LAST-MODIFIED:20250127T144129Z
UID:19204-1749513600-1749772799@calendar.gardenclub.org
SUMMARY:Flower Show School Course 3 - East Brunswick\, NJ
DESCRIPTION:Flower Show Procedure & Design: Lynn Fronk\n\nFSP via Zoom \nDesign Topics: Creative Designs\, Creating Design Schedules\, and Creative Staging \n\n\n\nHorticulture: Heidi Muschick\n\nHorticulture Topics: Cut Roses and Combination Plantings
URL:https://calendar.gardenclub.org/event/flower-show-school-course-3-east-brunswick-nj/
LOCATION:East Brunswick\, NJ\, East Brunswick\, NJ
CATEGORIES:Flower Show School,School Course 3
ATTACH;FMTTYPE=image/jpeg:https://calendar.gardenclub.org/wp-content/uploads/2022/09/fss-img-scaled-1.jpg
ORGANIZER;CN="Gail%20Bassolino":MAILTO:cbassolino@aol.com
END:VEVENT
BEGIN:VEVENT
DTSTART;VALUE=DATE:20250611
DTEND;VALUE=DATE:20250613
DTSTAMP:20260420T001251
CREATED:20250213T142740Z
LAST-MODIFIED:20250213T142740Z
UID:19229-1749600000-1749772799@calendar.gardenclub.org
SUMMARY:Gardening School Course 3 - Spartanburg\, SC
DESCRIPTION:IN-PERSON CLASSROOM
URL:https://calendar.gardenclub.org/event/gardening-school-course-3-spartanburg-sc/
LOCATION:Spartanburg\, SC\, Spartanburg\, South Carolina
CATEGORIES:Gardening School,School Course 3
ATTACH;FMTTYPE=image/jpeg:https://calendar.gardenclub.org/wp-content/uploads/2022/09/planting-hands-adobe_0.jpg
ORGANIZER;CN="Karen%20Allen":MAILTO:saludalake21@aol.com
END:VEVENT
BEGIN:VEVENT
DTSTART;VALUE=DATE:20250619
DTEND;VALUE=DATE:20250622
DTSTAMP:20260420T001251
CREATED:20250210T152712Z
LAST-MODIFIED:20250210T152712Z
UID:19224-1750291200-1750550399@calendar.gardenclub.org
SUMMARY:Flower Show School Symposium - Macon GA
DESCRIPTION:Horticulture: David Robson\n\nCut Ferns\, Hemerocallis \nAllied Topics: Botanical Arts\, Horticulture \n\n\n\nDesign: Claudia Bates\n\nDesign\, Design Diversity \nAllied Topics: Botanical Arts\, Design\, and Collages
URL:https://calendar.gardenclub.org/event/flower-show-school-symposium-macon-ga/
LOCATION:Macon\, GA\, Macon\, GA\, United States
CATEGORIES:Flower Show School,Symposium School
ATTACH;FMTTYPE=image/jpeg:https://calendar.gardenclub.org/wp-content/uploads/2022/09/fss-img-scaled-1.jpg
ORGANIZER;CN="Edna%20McClellan":MAILTO:Ednamae@ellijay.com
END:VEVENT
BEGIN:VEVENT
DTSTART;VALUE=DATE:20250623
DTEND;VALUE=DATE:20250626
DTSTAMP:20260420T001251
CREATED:20250213T180920Z
LAST-MODIFIED:20250213T180920Z
UID:19231-1750636800-1750895999@calendar.gardenclub.org
SUMMARY:Flower Show School Symposium - Little Rock\, AR
DESCRIPTION:Horticulture: Jan Griffin\n\nHelianthus and Araecea \n\n\n\nDesign: Julia Clevett\n\nIs It This or Is It That? \nAllied Topic: Exploration\, Freedom of Style
URL:https://calendar.gardenclub.org/event/flower-show-school-symposium-little-rock-ar/
LOCATION:Little Rock\, AR\, Little Rock\, AR
CATEGORIES:Flower Show School,Symposium School
ATTACH;FMTTYPE=image/jpeg:https://calendar.gardenclub.org/wp-content/uploads/2022/09/fss-img-scaled-1.jpg
ORGANIZER;CN="Terri%20Waterman":MAILTO:terriafgc@gmail.com
END:VEVENT
END:VCALENDAR