BEGIN:VCALENDAR
VERSION:2.0
PRODID:-//National Garden Clubs - Calendar - ECPv5.16.0//NONSGML v1.0//EN
CALSCALE:GREGORIAN
METHOD:PUBLISH
X-ORIGINAL-URL:https://calendar.gardenclub.org
X-WR-CALDESC:Events for National Garden Clubs - Calendar
REFRESH-INTERVAL;VALUE=DURATION:PT1H
X-Robots-Tag:noindex
X-PUBLISHED-TTL:PT1H
BEGIN:VTIMEZONE
TZID:America/New_York
BEGIN:DAYLIGHT
TZOFFSETFROM:-0500
TZOFFSETTO:-0400
TZNAME:EDT
DTSTART:20250309T070000
END:DAYLIGHT
BEGIN:STANDARD
TZOFFSETFROM:-0400
TZOFFSETTO:-0500
TZNAME:EST
DTSTART:20251102T060000
END:STANDARD
BEGIN:DAYLIGHT
TZOFFSETFROM:-0500
TZOFFSETTO:-0400
TZNAME:EDT
DTSTART:20260308T070000
END:DAYLIGHT
BEGIN:STANDARD
TZOFFSETFROM:-0400
TZOFFSETTO:-0500
TZNAME:EST
DTSTART:20261101T060000
END:STANDARD
END:VTIMEZONE
BEGIN:VEVENT
DTSTART;VALUE=DATE:20251103
DTEND;VALUE=DATE:20251105
DTSTAMP:20260419T173806
CREATED:20250210T151645Z
LAST-MODIFIED:20250210T151645Z
UID:19221-1762128000-1762300799@calendar.gardenclub.org
SUMMARY:Flower Show School Symposium - Richmond\, VA
DESCRIPTION:Horticulture: David Robson\n\nContainer-Grown Philodendron \nAllied Topics: Botanical Arts in Horticulture \n\n\n\nDesign: Gina Jogan\n\nFloor Design and Reflection Design \nAllied Topics: Commenting: Judges Comments
URL:https://calendar.gardenclub.org/event/flower-show-school-symposium-richmond-va-2/
LOCATION:Richmond\, VA\, Richmond\, VA
CATEGORIES:Flower Show School,Symposium School
ATTACH;FMTTYPE=image/jpeg:https://calendar.gardenclub.org/wp-content/uploads/2022/09/fss-img-scaled-1.jpg
ORGANIZER;CN="Dianna%20Busch":MAILTO:diannabusch@comcast.net
END:VEVENT
BEGIN:VEVENT
DTSTART;VALUE=DATE:20251103
DTEND;VALUE=DATE:20251105
DTSTAMP:20260419T173806
CREATED:20250523T195142Z
LAST-MODIFIED:20250523T195142Z
UID:19293-1762128000-1762300799@calendar.gardenclub.org
SUMMARY:Environmental School Course 2 - Augusta\, MI
DESCRIPTION:This is an in-person course.
URL:https://calendar.gardenclub.org/event/environmental-school-course-2-augusta-mi/
LOCATION:Augusta\, MI\, Augusta\, MI\, United States
CATEGORIES:Environmental School,School Course 2
ATTACH;FMTTYPE=image/jpeg:https://calendar.gardenclub.org/wp-content/uploads/2022/09/ess.jpg
ORGANIZER;CN="Beth%20Markowski":MAILTO:markowski.beth@gmail.com
END:VEVENT
BEGIN:VEVENT
DTSTART;VALUE=DATE:20251104
DTEND;VALUE=DATE:20260404
DTSTAMP:20260419T173806
CREATED:20251009T145954Z
LAST-MODIFIED:20251009T145954Z
UID:19446-1762214400-1775260799@calendar.gardenclub.org
SUMMARY:Tri-Refresher - Ball Ground\, Jasper\, and Peachtree City\, GA
DESCRIPTION:Sponsored by the Garden Club of Georgia\, Inc. \nRegistration deadline: October 24\, 2025.\nClasses will be conducted on November 4\, 2025\, and April 1–3\, 2026. \nREGISTER HERE \nFor additional details\, please refer to the brochure.
URL:https://calendar.gardenclub.org/event/tri-refresher-ball-ground-jasper-and-peachtree-city-ga/
LOCATION:Ball Ground\, Jasper\, Peachtree City\, GA\, GA\, United States
CATEGORIES:Environmental School,Gardening School,Landscape Design School,Multiple Refresher School
ATTACH;FMTTYPE=image/jpeg:https://calendar.gardenclub.org/wp-content/uploads/2022/04/hero_image.jpg
END:VEVENT
END:VCALENDAR